Mosaico de trueortofotos da cidade do Rio de Janeiro<\/span>, adquirido pelo IPP, realizado através de voo que incluiu levantamento LiDAR.<\/span><\/p>C<\/span>omposição RGB<\/span><\/p><\/li>A<\/span>quisição 1º semestre de 2024<\/span><\/p><\/li>R<\/span>esolução espacial 15 cm<\/span><\/p><\/li><\/ul><\/div><\/div><\/div>",
"serviceItemId": "4321d773ef56481a94653be24b8dcbee",
"name": "Imagens/Mosaico_2024",
"description": "Mosaico de trueortofotos da cidade do Rio de Janeiro<\/span>, adquirido pelo IPP, realizado através de voo que incluiu levantamento LiDAR.<\/span><\/p>C<\/span>omposição RGB<\/span><\/p><\/li>A<\/span>quisição 1º semestre de 2024<\/span><\/p><\/li>R<\/span>esolução espacial 15 cm<\/span><\/p><\/li><\/ul><\/div><\/div><\/div>",
"extent": {
"xmin": 621720.15,
"ymin": 7444172.250000001,
"xmax": 695788.5,
"ymax": 7485303.600000001,
"spatialReference": {
"wkid": 31983,
"latestWkid": 31983
}
},
"initialExtent": {
"xmin": 621720.15,
"ymin": 7444172.250000001,
"xmax": 695788.5,
"ymax": 7485303.600000001,
"spatialReference": {
"wkid": 31983,
"latestWkid": 31983
}
},
"fullExtent": {
"xmin": 621720.15,
"ymin": 7444172.250000001,
"xmax": 695788.5,
"ymax": 7485303.600000001,
"spatialReference": {
"wkid": 31983,
"latestWkid": 31983
}
},
"sortableFields": "",
"bandCount": 3,
"pixelType": "U8",
"minValues": [],
"maxValues": [],
"meanValues": [],
"stdvValues": [],
"serviceProperties": "Center<\/MosaicMethod>First<\/MosaicOperator>true<\/SortAscending><\/LockImageID><\/TileOrderField>0<\/TileOrderBase>0.000000<\/AvgImageSpacingX>0.000000<\/AvgImageSpacingY>0.0<\/ViewPointX>0.0<\/ViewPointY>0.0<\/ViewPointDefShiftX>0.0<\/ViewPointDefShiftY>None<\/CompressionMethod>75<\/CompressionQuality>0.010000<\/CompressionTolerance>Bilinear<\/SamplingMethod><\/ImageServiceProperties><\/ImageServer>",
"allowedFields": "",
"hasMultidimensions": false,
"pixelSizeX": 0.14999999999999997,
"pixelSizeY": 0.14999999999999863,
"meanPixelSize": 0.1499999999999993,
"datasetFormat": "JP2",
"uncompressedSize": 406203341076,
"blockWidth": 2048,
"blockHeight": 2048,
"compressionType": "JPEG2000",
"bandNames": [
"Band_1",
"Band_2",
"Band_3"
],
"allowCopy": true,
"allowAnalysis": true,
"itemAccess": false,
"inspectionCapabilities": "",
"minPixelSize": 0,
"maxPixelSize": 0,
"copyrightText": "Instituto Pereira Passos, PCRJ",
"serviceDataType": "esriImageServiceDataTypeRGB",
"serviceSourceType": "esriImageServiceSourceTypeDataset",
"objectIdField": "",
"fields": [],
"capabilities": "Mensuration,Image,Metadata",
"defaultMosaicMethod": "Center",
"allowedMosaicMethods": "",
"sortField": "",
"sortValue": null,
"sortAscending": true,
"mosaicOperator": "First",
"defaultCompressionQuality": 75,
"defaultResamplingMethod": "Bilinear",
"maxImageHeight": 4100,
"maxImageWidth": 15000,
"maxRecordCount": 2000,
"allowRasterFunction": true,
"rasterFunctionInfos": [
{
"name": "None",
"description": "",
"help": ""
}
],
"rasterTypeInfos": [
{
"name": "Raster Dataset",
"description": "Supports all ArcGIS Raster Datasets",
"help": ""
}
],
"mensurationCapabilities": "Basic",
"hasHistograms": false,
"hasColormap": false,
"hasRasterAttributeTable": false,
"minScale": 0,
"maxScale": 0,
"exportTilesAllowed": false,
"supportsStatistics": false,
"supportsAdvancedQueries": false,
"editFieldsInfo": null,
"ownershipBasedAccessControlForRasters": null,
"allowComputeTiePoints": false,
"useStandardizedQueries": true,
"advancedQueryCapabilities": {
"useStandardizedQueries": true,
"supportsStatistics": false,
"supportsOrderBy": false,
"supportsDistinct": false,
"supportsPagination": false
},
"spatialReference": {
"wkid": 31983,
"latestWkid": 31983
},
"resampling": false
}