{
 "currentVersion": 11.5,
 "serviceDescription": "Imagens/Mosaico_2025",
 "serviceItemId": "ffe4f19db40249f088ab1aa941ebfbfb",
 "name": "Imagens/Mosaico_2025",
 "description": "",
 "extent": {
  "xmin": 621242.6594635067,
  "ymin": 7444074.6181959845,
  "xmax": 697891.984155747,
  "ymax": 7485629.900346197,
  "spatialReference": {
   "wkid": 31983,
   "latestWkid": 31983
  }
 },
 "initialExtent": {
  "xmin": 621242.6594635067,
  "ymin": 7444074.6181959845,
  "xmax": 697891.984155747,
  "ymax": 7485629.900346197,
  "spatialReference": {
   "wkid": 31983,
   "latestWkid": 31983
  }
 },
 "fullExtent": {
  "xmin": 621242.6594635067,
  "ymin": 7444074.6181959845,
  "xmax": 697891.984155747,
  "ymax": 7485629.900346197,
  "spatialReference": {
   "wkid": 31983,
   "latestWkid": 31983
  }
 },
 "sortableFields": "",
 "bandCount": 3,
 "pixelType": "U8",
 "minValues": [
  1,
  1,
  1
 ],
 "maxValues": [
  255,
  255,
  255
 ],
 "meanValues": [
  77.296072731281,
  87.377844388281,
  76.565760741594
 ],
 "stdvValues": [
  43.256262152439,
  37.426578475732,
  38.772970551694
 ],
 "serviceProperties": "Center<\/MosaicMethod>First<\/MosaicOperator>true<\/SortAscending><\/LockImageID><\/TileOrderField>0<\/TileOrderBase>0.000000<\/AvgImageSpacingX>0.000000<\/AvgImageSpacingY>0.0<\/ViewPointX>0.0<\/ViewPointY>0.0<\/ViewPointDefShiftX>0.0<\/ViewPointDefShiftY>None<\/CompressionMethod>75<\/CompressionQuality>0.010000<\/CompressionTolerance>Bicubic<\/SamplingMethod><\/ImageServiceProperties><\/ImageServer>",
 "allowedFields": "",
 "hasMultidimensions": false,
 "pixelSizeX": 0.5654857000002975,
 "pixelSizeY": 0.5654857000001725,
 "meanPixelSize": 0.565485700000235,
 "datasetFormat": "TIFF",
 "uncompressedSize": 29882200068,
 "blockWidth": 128,
 "blockHeight": 128,
 "compressionType": "None",
 "bandNames": [
  "Band_1",
  "Band_2",
  "Band_3"
 ],
 "allowCopy": true,
 "allowAnalysis": true,
 "itemAccess": false,
 "inspectionCapabilities": "",
 "noDataValue": 0,
 "noDataValues": [
  0,
  0,
  0
 ],
 "minPixelSize": 0,
 "maxPixelSize": 0,
 "copyrightText": "",
 "serviceDataType": "esriImageServiceDataTypeRGB",
 "serviceSourceType": "esriImageServiceSourceTypeDataset",
 "objectIdField": "",
 "fields": [],
 "capabilities": "Mensuration,Image,Metadata",
 "defaultMosaicMethod": "Center",
 "allowedMosaicMethods": "",
 "sortField": "",
 "sortValue": null,
 "sortAscending": true,
 "mosaicOperator": "First",
 "defaultCompressionQuality": 75,
 "defaultResamplingMethod": "Bicubic",
 "maxImageHeight": 4100,
 "maxImageWidth": 15000,
 "allowRasterFunction": true,
 "rasterFunctionInfos": [
  {
   "name": "None",
   "description": "",
   "help": ""
  }
 ],
 "rasterTypeInfos": [
  {
   "name": "Raster Dataset",
   "description": "Supports all ArcGIS Raster Datasets",
   "help": ""
  }
 ],
 "mensurationCapabilities": "Basic",
 "hasHistograms": true,
 "hasColormap": false,
 "hasRasterAttributeTable": false,
 "minScale": 0,
 "maxScale": 0,
 "exportTilesAllowed": false,
 "supportsStatistics": false,
 "supportsAdvancedQueries": false,
 "editFieldsInfo": null,
 "ownershipBasedAccessControlForRasters": null,
 "allowComputeTiePoints": false,
 "useStandardizedQueries": true,
 "advancedQueryCapabilities": {
  "useStandardizedQueries": true,
  "supportsStatistics": false,
  "supportsOrderBy": false,
  "supportsDistinct": false,
  "supportsPagination": false
 },
 "spatialReference": {
  "wkid": 31983,
  "latestWkid": 31983
 }
}
