View In:
ArcGIS JavaScript
ArcGIS Online Map Viewer
ArcGIS Earth
Service Description: Censo/Pessoas_per_pixel_3m_2022
Name: Censo/Pessoas_per_pixel_3m_2022
Description:
Single Fused Map Cache: false
Extent:
XMin: 625729.7001
YMin: 7447494.6015
XMax: 694786.7001
YMax: 7482957.6015
Spatial Reference: 31983
(31983)
LatestVCSWkid(0)
Initial Extent:
XMin: 625729.7001
YMin: 7447494.6015
XMax: 694786.7001
YMax: 7482957.6015
Spatial Reference: 31983
(31983)
LatestVCSWkid(0)
Full Extent:
XMin: 625729.7001
YMin: 7447494.6015
XMax: 694786.7001
YMax: 7482957.6015
Spatial Reference: 31983
(31983)
LatestVCSWkid(0)
Pixel Size X: 3.0
Pixel Size Y: 3.0
Band Count: 1
Pixel Type: F64
RasterFunction Infos: {"rasterFunctionInfos": [{
"name": "None",
"description": "",
"help": ""
}]}
Mensuration Capabilities: Basic
Inspection Capabilities:
Has Histograms: true
Has Colormap: false
Has Multi Dimensions : false
Rendering Rule:
Min Scale: 0
Max Scale: 0
Resampling: false
Copyright Text:
Service Data Type: esriImageServiceDataTypeGeneric
Min Values: 0
Max Values: 98.03941416499745
Mean Values: 0.1259782604031593
Standard Deviation Values: 0.1602726054919967
Object ID Field:
Fields:
None
Default Mosaic Method: Center
Allowed Mosaic Methods:
SortField:
SortValue: null
Mosaic Operator: First
Default Compression Quality: 75
Default Resampling Method: Bilinear
Max Record Count: 2000
Max Image Height: 41000
Max Image Width: 150000
Max Download Image Count: null
Max Mosaic Image Count: null
Allow Raster Function: true
Allow Copy: true
Allow Analysis: true
Allow Compute TiePoints: false
Supports Statistics: false
Supports Advanced Queries: false
Use StandardizedQueries: true
Raster Type Infos:
Name: Raster Dataset
Description: Supports all ArcGIS Raster Datasets
Help:
Has Raster Attribute Table: false
Edit Fields Info: null
Ownership Based AccessControl For Rasters: null
Child Resources:
Info
Histograms
Statistics
Key Properties
Legend
Raster Function Infos
Supported Operations:
Export Image
Identify
Measure
Compute Histograms
Compute Statistics Histograms
Get Samples
Compute Class Statistics
Query Boundary
Compute Pixel Location
Compute Angles
Validate
Project