View In:
ArcGIS JavaScript
ArcGIS Online Map Viewer
ArcGIS Earth
Service Description: Camadas referentes ao projeto Rio Flood Model - RioFM, parte do Acordo de Cooperação entre Prefeitura do Rio e NASA, desenvolvido em colaboração entre IPP, Fundação Rio Águas e NASA GSFC.
Name: Estudos/Rio_Flood_Model
Description: Camadas referentes ao projeto Rio Flood Model - RioFM, parte do Acordo de Cooperação entre Prefeitura do Rio e NASA, desenvolvido em colaboração entre IPP, Fundação Rio Águas e NASA GSFC.
Single Fused Map Cache: false
Extent:
XMin: -43.9
YMin: -23.1
XMax: -43.10000004999999
YMax: -22.700000024999998
Spatial Reference: 4326
(4326)
LatestVCSWkid(0)
Initial Extent:
XMin: -43.9
YMin: -23.1
XMax: -43.10000004999999
YMax: -22.700000024999998
Spatial Reference: 4326
(4326)
LatestVCSWkid(0)
Full Extent:
XMin: -43.9
YMin: -23.1
XMax: -43.10000004999999
YMax: -22.700000024999998
Spatial Reference: 4326
(4326)
LatestVCSWkid(0)
Pixel Size X: 9.99750000000009E-5
Pixel Size Y: 9.99750000000009E-5
Band Count: 1
Pixel Type: U8
RasterFunction Infos: {"rasterFunctionInfos": [{
"name": "None",
"description": "",
"help": ""
}]}
Mensuration Capabilities: Basic
Inspection Capabilities:
Has Histograms: true
Has Colormap: false
Has Multi Dimensions : false
Rendering Rule:
Min Scale: 0
Max Scale: 0
Resampling: false
Copyright Text: IPP, NASA/GSFC, Rio Águas
Service Data Type: esriImageServiceDataTypeGeneric
Min Values: 0
Max Values: 2
Mean Values: 0.7252474690663717
Standard Deviation Values: 0.5702659840214611
Object ID Field: objectid
Fields:
-
objectid
(
type: esriFieldTypeOID, alias: objectid
)
-
name
(
type: esriFieldTypeString, alias: name, length: 200
)
-
minps
(
type: esriFieldTypeDouble, alias: minps
)
-
maxps
(
type: esriFieldTypeDouble, alias: maxps
)
-
lowps
(
type: esriFieldTypeDouble, alias: lowps
)
-
highps
(
type: esriFieldTypeDouble, alias: highps
)
-
category
(
type: esriFieldTypeInteger, alias: category
, Coded Values:
[0: Unknown]
, [1: Primary]
, [2: Overview]
, ...6 more...
)
-
tag
(
type: esriFieldTypeString, alias: tag, length: 100
)
-
groupname
(
type: esriFieldTypeString, alias: groupname, length: 100
)
-
productname
(
type: esriFieldTypeString, alias: productname, length: 100
)
-
centerx
(
type: esriFieldTypeDouble, alias: centerx
)
-
centery
(
type: esriFieldTypeDouble, alias: centery
)
-
zorder
(
type: esriFieldTypeInteger, alias: zorder
)
-
shape
(
type: esriFieldTypeGeometry, alias: shape
)
-
processing_date
(
type: esriFieldTypeDate, alias: processing_date, length: 8
)
Default Mosaic Method: Northwest
Allowed Mosaic Methods: NorthWest,Center,LockRaster,ByAttribute,Nadir,Viewpoint,Seamline,None
SortField:
SortValue: null
Mosaic Operator: First
Default Compression Quality: 75
Default Resampling Method: Bilinear
Max Record Count: 1000
Max Image Height: 4100
Max Image Width: 15000
Max Download Image Count: 20
Max Mosaic Image Count: 20
Allow Raster Function: true
Allow Copy: true
Allow Analysis: true
Allow Compute TiePoints: false
Supports Statistics: true
Supports Advanced Queries: true
Use StandardizedQueries: true
Raster Type Infos:
Name: Raster Dataset
Description: Supports all ArcGIS Raster Datasets
Help:
Has Raster Attribute Table: false
Edit Fields Info: null
Ownership Based AccessControl For Rasters: null
Child Resources:
Info
Histograms
Statistics
Key Properties
Legend
Raster Function Infos
Supported Operations:
Export Image
Query
Identify
Measure
Compute Histograms
Compute Statistics Histograms
Get Samples
Compute Class Statistics
Query GPS Info
Find Images
Image to Map
Map to Image
Measure from Image
Image to Map Multiray
Query Boundary
Compute Pixel Location
Compute Angles
Validate
Project