View In:
ArcGIS JavaScript
ArcGIS Online Map Viewer
ArcGIS Earth
Service Description: Mosaico de trueortofotos da cidade do Rio de Janeiro, adquirido pelo IPP, realizado através de voo que incluiu levantamento LiDAR.
Name: Imagens/Mosaico_2024
Description: Mosaico de trueortofotos da cidade do Rio de Janeiro, adquirido pelo IPP, realizado através de voo que incluiu levantamento LiDAR.
Single Fused Map Cache: false
Extent:
XMin: 621720.15
YMin: 7444172.250000001
XMax: 695788.5
YMax: 7485303.600000001
Spatial Reference: 31983
(31983)
LatestVCSWkid(0)
Initial Extent:
XMin: 621720.15
YMin: 7444172.250000001
XMax: 695788.5
YMax: 7485303.600000001
Spatial Reference: 31983
(31983)
LatestVCSWkid(0)
Full Extent:
XMin: 621720.15
YMin: 7444172.250000001
XMax: 695788.5
YMax: 7485303.600000001
Spatial Reference: 31983
(31983)
LatestVCSWkid(0)
Pixel Size X: 0.14999999999999997
Pixel Size Y: 0.14999999999999863
Band Count: 3
Pixel Type: U8
RasterFunction Infos: {"rasterFunctionInfos": [{
"name": "None",
"description": "",
"help": ""
}]}
Mensuration Capabilities: Basic
Inspection Capabilities:
Has Histograms: false
Has Colormap: false
Has Multi Dimensions : false
Rendering Rule:
Min Scale: 0
Max Scale: 0
Resampling: false
Copyright Text: Instituto Pereira Passos, PCRJ
Service Data Type: esriImageServiceDataTypeRGB
Min Values: N/A
Max Values: N/A
Mean Values: N/A
Standard Deviation Values: N/A
Object ID Field:
Fields:
None
Default Mosaic Method: Center
Allowed Mosaic Methods:
SortField:
SortValue: null
Mosaic Operator: First
Default Compression Quality: 75
Default Resampling Method: Bilinear
Max Record Count: 2000
Max Image Height: 4100
Max Image Width: 15000
Max Download Image Count: null
Max Mosaic Image Count: null
Allow Raster Function: true
Allow Copy: true
Allow Analysis: true
Allow Compute TiePoints: false
Supports Statistics: false
Supports Advanced Queries: false
Use StandardizedQueries: true
Raster Type Infos:
Name: Raster Dataset
Description: Supports all ArcGIS Raster Datasets
Help:
Has Raster Attribute Table: false
Edit Fields Info: null
Ownership Based AccessControl For Rasters: null
Child Resources:
Info
Statistics
Key Properties
Legend
Raster Function Infos
Supported Operations:
Export Image
Identify
Measure
Compute Histograms
Compute Statistics Histograms
Get Samples
Compute Class Statistics
Query Boundary
Compute Pixel Location
Compute Angles
Validate
Project