View In:
ArcGIS JavaScript
ArcGIS Online Map Viewer
ArcGIS Earth
Service Description: Imagens/Mosaico_2025
Name: Imagens/Mosaico_2025
Description:
Single Fused Map Cache: false
Extent:
XMin: 621242.6594635067
YMin: 7444074.6181959845
XMax: 697891.984155747
YMax: 7485629.900346197
Spatial Reference: 31983
(31983)
LatestVCSWkid(0)
Initial Extent:
XMin: 621242.6594635067
YMin: 7444074.6181959845
XMax: 697891.984155747
YMax: 7485629.900346197
Spatial Reference: 31983
(31983)
LatestVCSWkid(0)
Full Extent:
XMin: 621242.6594635067
YMin: 7444074.6181959845
XMax: 697891.984155747
YMax: 7485629.900346197
Spatial Reference: 31983
(31983)
LatestVCSWkid(0)
Pixel Size X: 0.5654857000002975
Pixel Size Y: 0.5654857000001725
Band Count: 3
Pixel Type: U8
RasterFunction Infos: {"rasterFunctionInfos": [{
"name": "None",
"description": "",
"help": ""
}]}
Mensuration Capabilities: Basic
Inspection Capabilities:
Has Histograms: true
Has Colormap: false
Has Multi Dimensions : false
Rendering Rule:
Min Scale: 0
Max Scale: 0
Copyright Text:
Service Data Type: esriImageServiceDataTypeRGB
Min Values: 1, 1, 1
Max Values: 255, 255, 255
Mean Values: 77.296072731281, 87.377844388281, 76.565760741594
Standard Deviation Values: 43.256262152439, 37.426578475732, 38.772970551694
Object ID Field:
Fields:
None
Default Mosaic Method: Center
Allowed Mosaic Methods:
SortField:
SortValue: null
Mosaic Operator: First
Default Compression Quality: 75
Default Resampling Method: Bicubic
Max Record Count: null
Max Image Height: 4100
Max Image Width: 15000
Max Download Image Count: null
Max Mosaic Image Count: null
Allow Raster Function: true
Allow Copy: true
Allow Analysis: true
Allow Compute TiePoints: false
Supports Statistics: false
Supports Advanced Queries: false
Use StandardizedQueries: true
Raster Type Infos:
Name: Raster Dataset
Description: Supports all ArcGIS Raster Datasets
Help:
Has Raster Attribute Table: false
Edit Fields Info: null
Ownership Based AccessControl For Rasters: null
Child Resources:
Info
Histograms
Statistics
Key Properties
Legend
Raster Function Infos
Supported Operations:
Export Image
Identify
Measure
Compute Histograms
Compute Statistics Histograms
Get Samples
Compute Class Statistics
Query Boundary
Compute Pixel Location
Compute Angles
Validate
Project